BEGIN:VCALENDAR
VERSION:2.0
PRODID:-//WashU Medicine Pain Center//NONSGML Events//EN
CALSCALE:GREGORIAN
X-ORIGINAL-URL:https://pain.wustl.edu/events/
X-WR-CALDESC:WashU Medicine Pain Center - Events
BEGIN:VEVENT
UID:20210405T1842Z-1617648166.406-EO-7627-1@172.23.128.19
STATUS:CONFIRMED
DTSTAMP:20260420T015653Z
CREATED:20210325T212047Z
LAST-MODIFIED:20210325T212047Z
DTSTART;TZID=America/Chicago:20210511T160000
DTEND;TZID=America/Chicago:20210511T170000
SUMMARY: Ziva D. Cooper\, PhD
DESCRIPTION: VIRTUAL RESEARCH SEMINAR Hosted by:  Robert Gereau Ziva D. Coo
 per\, PhD Director\, UCLA Cannabis Research Initiative Jane & Terry Semel I
 nstitute for Neuroscience and Human Behavior Associate Professor Department
  of Psychiatry & Biobehavioral Sciences UCLA Human Studies Probing Cannabis
  Constituents as Substitutes or Adjuncts to Opioids Zoom Meeting Info: Plea
 se contact Amber Spies for details
X-ALT-DESC;FMTTYPE=text/html: <h3><strong><span style="color: #993300\;">VI
 RTUAL RESEARCH SEMINAR</span></strong></h3><p>Hosted by:  Robert Gereau</p>
 <p><strong>Ziva D. Cooper\, PhD</strong><br />Director\, UCLA Cannabis Rese
 arch Initiative<br />Jane & Terry Semel Institute for Neuroscience and Huma
 n Behavior<br />Associate Professor<br />Department of Psychiatry & Biobeha
 vioral Sciences<br />UCLA</p><blockquote><p><em><strong>Human Studies Probi
 ng Cannabis Constituents as Substitutes or Adjuncts to Opioids</strong></em
 ></p></blockquote><div class="callout"><p class="intro-text">Zoom Meeting I
 nfo:</p><p>Please contact <a href="mailto: spiesa@wustl.edu">Amber Spies</a
 > for details</p></div>
CATEGORIES:Seminars
ORGANIZER;CN="Amber":MAILTO:spiesa@wustl.edu
URL;VALUE=URI:https://pain.wustl.edu/events/event/ziva-d-cooper-phd/
END:VEVENT
BEGIN:VTIMEZONE
TZID:America/Chicago
BEGIN:DAYLIGHT
TZOFFSETFROM:-0600
TZOFFSETTO:-0500
DTSTART:20210314T080000
TZNAME:CDT
END:DAYLIGHT
END:VTIMEZONE
END:VCALENDAR
