BEGIN:VCALENDAR
VERSION:2.0
PRODID:-//WashU Medicine Pain Center//NONSGML Events//EN
CALSCALE:GREGORIAN
X-ORIGINAL-URL:https://pain.wustl.edu/events/
X-WR-CALDESC:WashU Medicine Pain Center - Events
BEGIN:VEVENT
UID:20220405T0258Z-1649127530.995-EO-8093-1@172.23.128.19
STATUS:CONFIRMED
DTSTAMP:20260424T153328Z
CREATED:20220302T213407Z
LAST-MODIFIED:20220303T021507Z
DTSTART;TZID=America/Chicago:20220322T160000
DTEND;TZID=America/Chicago:20220322T170000
SUMMARY: Sudha Chakrapani\, PhD
DESCRIPTION: Structural Pharmacology of Pentameric Ligand-Gated Ion Channel
 s
X-ALT-DESC;FMTTYPE=text/html: <h3><span style="color: #800000\;">VIRTUAL RE
 SEARCH SEMINAR</span></h3><p>Hosted by:  Michael Avidan\, MBBCH\, FCA\, SA<
 /p><p class="signature-name"><strong>Sudha Chakrapani\, PhD</strong></p><p 
 class="signature-title">Joseph T. Wearn\, MD University Professor in Medici
 ne</p><p class="signature-title">Professor\, Department of Physiology and B
 iophysics</p><p class="signature-title">School of Medicine\, Case Western R
 eserve University</p><blockquote><p><em>Structural Pharmacology of Pentamer
 ic Ligand-Gated Ion Channels</em></p></blockquote><div class="callout"><p><
 strong>Zoom Meeting Info:</strong>  Please contact <a href="mailto:spiesa@w
 ustl.edu" target="_blank" rel="noopener">Amber Spies</a> for details</p></d
 iv><p> </p>
CATEGORIES:Seminars
ORGANIZER;CN="Amber":MAILTO:spiesa@wustl.edu
URL;VALUE=URI:https://pain.wustl.edu/events/event/sudha-chakrapani-phd-2/
END:VEVENT
BEGIN:VTIMEZONE
TZID:America/Chicago
BEGIN:DAYLIGHT
TZOFFSETFROM:-0600
TZOFFSETTO:-0500
DTSTART:20220313T080000
TZNAME:CDT
END:DAYLIGHT
END:VTIMEZONE
END:VCALENDAR
