BEGIN:VCALENDAR
VERSION:2.0
PRODID:-//WashU Medicine Pain Center//NONSGML Events//EN
CALSCALE:GREGORIAN
X-ORIGINAL-URL:https://pain.wustl.edu/events/
X-WR-CALDESC:WashU Medicine Pain Center - Events
BEGIN:VEVENT
UID:20240924T0538Z-1727156331.9158-EO-9933-1@10.24.106.144
STATUS:CONFIRMED
DTSTAMP:20260425T073021Z
CREATED:20240917T193025Z
LAST-MODIFIED:20240917T193025Z
DTSTART;TZID=America/Chicago:20241029T110000
DTEND;TZID=America/Chicago:20241029T120000
SUMMARY: Research Seminar:  Ronald Davis\, PhD
DESCRIPTION: Hosted by:  Bahaa Elgendy\, PhD Ronald Davis\, PhD Professor o
 f Neuroscience The Herbert Wertheim UF Scripps Institute for Biomedical Inn
 ovation & Technology UF Health   Mitochondrial-focused therapeutics for neu
 rodegenerative diseases Location:  Holden Auditorium – FLTC
X-ALT-DESC;FMTTYPE=text/html: <p>Hosted by:  Bahaa Elgendy\, PhD</p><p><str
 ong>Ronald Davis\, PhD</strong><br />Professor of Neuroscience<br />The Her
 bert Wertheim UF Scripps Institute for Biomedical Innovation & Technology<b
 r />UF Health</p><p> </p><blockquote><p><strong><em>Mitochondrial-focused t
 herapeutics for neurodegenerative diseases</em></strong></p></blockquote><d
 iv class="callout"><p>Location:  Holden Auditorium - FLTC</p></div>
ORGANIZER;CN="Amber":MAILTO:spiesa@wustl.edu
URL;VALUE=URI:https://pain.wustl.edu/events/event/research-seminar-ronald-d
 avis-phd/
END:VEVENT
BEGIN:VTIMEZONE
TZID:America/Chicago
BEGIN:DAYLIGHT
TZOFFSETFROM:-0600
TZOFFSETTO:-0500
DTSTART:20240310T080000
TZNAME:CDT
END:DAYLIGHT
END:VTIMEZONE
END:VCALENDAR
