BEGIN:VCALENDAR
VERSION:2.0
PRODID:-//WashU Medicine Pain Center//NONSGML Events//EN
CALSCALE:GREGORIAN
X-ORIGINAL-URL:https://pain.wustl.edu/events/
X-WR-CALDESC:WashU Medicine Pain Center - Events
BEGIN:VEVENT
UID:20200304T0328Z-1583292501.9019-EO-6830-1@172.23.128.19
STATUS:CONFIRMED
DTSTAMP:20260420T074857Z
CREATED:20200302T180530Z
LAST-MODIFIED:20200302T180530Z
DTSTART;TZID=America/Chicago:20200303T163000
DTEND;TZID=America/Chicago:20200303T173000
SUMMARY: Hadas Nahman-Averbuch\, PhD
DESCRIPTION: Postdoctoral Research Fellow Department of Pediatrics Division
  of Behavioral Medicine and Clinical Psychology Cincinnati Children’s Hospi
 tal Medical Center   “Pain Perception and Modulation Across the Lifespan”
X-ALT-DESC;FMTTYPE=text/html: <p class="signature-title">Postdoctoral Resea
 rch Fellow</p><p class="signature-title">Department of Pediatrics</p><p cla
 ss="signature-title">Division of Behavioral Medicine and Clinical Psycholog
 y</p><p class="signature-title">Cincinnati Children’s Hospital Medical Cent
 er</p><p> </p><blockquote><h2><strong><em>“Pain Perception and Modulation A
 cross the Lifespan”</em></strong></h2></blockquote>
CATEGORIES:Seminars
LOCATION:CSRB - North Tower Addition\, Conference Room 401
GEO:0;0
ORGANIZER;CN="Amber":MAILTO:spiesa@wustl.edu
URL;VALUE=URI:https://pain.wustl.edu/events/event/hadas-nahman-averbuch-phd
 /
END:VEVENT
BEGIN:VTIMEZONE
TZID:America/Chicago
BEGIN:STANDARD
TZOFFSETFROM:-0500
TZOFFSETTO:-0600
DTSTART:20191103T070000
TZNAME:CST
END:STANDARD
END:VTIMEZONE
END:VCALENDAR
