BEGIN:VCALENDAR
VERSION:2.0
PRODID:-//WashU Medicine Pain Center//NONSGML Events//EN
CALSCALE:GREGORIAN
X-ORIGINAL-URL:https://pain.wustl.edu/events/
X-WR-CALDESC:WashU Medicine Pain Center - Events
BEGIN:VEVENT
UID:20220405T0258Z-1649127531.0067-EO-8117-1@172.23.128.19
STATUS:CONFIRMED
DTSTAMP:20260420T195207Z
CREATED:20220303T020728Z
LAST-MODIFIED:20220406T175411Z
DTSTART;TZID=America/Chicago:20220412T160000
DTEND;TZID=America/Chicago:20220412T170000
SUMMARY: Boris D. Heifets\, MD\, PhD
DESCRIPTION: HYBRID RESEARCH SEMINAR Hosted by:  Ben Palanca\, MD\, PhD Bor
 is D. Heifets\, MD\, PhD Assistant Professor Department of Anesthesiology\,
  Perioperative and Pain Medicine Stanford University School of Medicine Dec
 onstructing powerful psychotropic drugs to make better medicine In-Person L
 ocation:  Moore Auditorium Zoom Meeting Info:  Please contact Amber Spies f
 or details  
X-ALT-DESC;FMTTYPE=text/html: <h3><span style="color: #800000\;">HYBRID RES
 EARCH SEMINAR</span></h3><p>Hosted by:  Ben Palanca\, MD\, PhD</p><p class=
 "signature-name"><strong>Boris D. Heifets\, MD\, PhD</strong></p><p class="
 signature-title">Assistant Professor</p><p class="signature-title">Departme
 nt of Anesthesiology\, Perioperative and Pain Medicine</p><p class="signatu
 re-title">Stanford University School of Medicine</p><blockquote><p>Deconstr
 ucting powerful psychotropic drugs to make better medicine</p></blockquote>
 <div class="callout"><p><strong>In-Person Location: </strong> <a href="http
 s://medicine.wustl.edu/about/facilities/moore-auditorium/" target="_blank" 
 rel="noopener">Moore Auditorium</a></p><p><strong>Zoom Meeting Info: </stro
 ng> Please contact <a href="mailto:spiesa@wustl.edu" target="_blank" rel="n
 oopener">Amber Spies</a> for details</p></div><p> </p>
CATEGORIES:Seminars
ORGANIZER;CN="Amber":MAILTO:spiesa@wustl.edu
URL;VALUE=URI:https://pain.wustl.edu/events/event/boris-d-heifets-md-phd/
END:VEVENT
BEGIN:VTIMEZONE
TZID:America/Chicago
BEGIN:DAYLIGHT
TZOFFSETFROM:-0600
TZOFFSETTO:-0500
DTSTART:20220313T080000
TZNAME:CDT
END:DAYLIGHT
END:VTIMEZONE
END:VCALENDAR
